BEGIN:VCALENDAR
VERSION:2.0
PRODID:-//MarketShare Financial - ECPv6.15.12.2//NONSGML v1.0//EN
CALSCALE:GREGORIAN
METHOD:PUBLISH
X-ORIGINAL-URL:https://marketsharefinancial.com
X-WR-CALDESC:Events for MarketShare Financial
REFRESH-INTERVAL;VALUE=DURATION:PT1H
X-Robots-Tag:noindex
X-PUBLISHED-TTL:PT1H
BEGIN:VTIMEZONE
TZID:UTC
BEGIN:STANDARD
TZOFFSETFROM:+0000
TZOFFSETTO:+0000
TZNAME:UTC
DTSTART:20220101T000000
END:STANDARD
END:VTIMEZONE
BEGIN:VEVENT
DTSTART;VALUE=DATE:20230222
DTEND;VALUE=DATE:20230225
DTSTAMP:20260419T121633
CREATED:20220518T131945Z
LAST-MODIFIED:20230105T212552Z
UID:3799-1677024000-1677283199@marketsharefinancial.com
SUMMARY:MarketShare 2023:  Partners In Excellence - Clearwater Beach\, Florida
DESCRIPTION:  \n  \n  \n  \n  \n  \n  \n  \n  \nRegister Now!
URL:https://marketsharefinancial.com/event/partners-in-excellence-msf-meeting-clearwater-fl/
LOCATION:Sheraton Sand Key Resort\, 1160 Gulf Boulevard\, Clearwater Beach\, FL\, 33767\, United States
ORGANIZER;CN="Kyndra Packard":MAILTO:kpackard@marketsharefinancial.com
END:VEVENT
END:VCALENDAR